BEGIN:VCALENDAR
VERSION:2.0
PRODID:-//eventon.com NONSGML v1.0//EN
CALSCALE:GREGORIAN
METHOD:PUBLISH
BEGIN:VEVENT
UID:69ea036f69302
DTSTAMP:20260423T113303Z
DTSTART:20260525
DTEND:20260526
LOCATION:
SUMMARY:Memorial Day
DESCRIPTION:\nhttps://sheltonlibrarysystem.org/events/2026-memorial-day/
URL:https://sheltonlibrarysystem.org/events/2026-memorial-day/
END:VEVENT
END:VCALENDAR