BEGIN:VCALENDAR
VERSION:2.0
PRODID:-//eventon.com NONSGML v1.0//EN
CALSCALE:GREGORIAN
METHOD:PUBLISH
BEGIN:VEVENT
UID:69eba42b0f275
DTSTAMP:20260424T171107Z
DTSTART:20260407T220000Z
DTEND:20260408T035900Z
LOCATION:Plumb Memorial Library 65 Wooster St\,  Shelton\,  CT 06484
SUMMARY:Sustainable Decluttering
DESCRIPTION:Clearing Your Space\,  Protecting the Planet Is your clutter ta
 king over\,  but you’re just not sure where to start\,  and you are conce
 rned about the environmental impact of decluttering? Join Lauren Hass\,  Ce
 rtified Professional Organizer and owner of Clutter Kicker for an informati
 ve and motivating session that combines practical organization[..]\nhttps:/
 /sheltonlibrarysystem.org/events/20260407-sustainable-decluttering/
URL:https://sheltonlibrarysystem.org/events/20260407-sustainable-decluttering/
END:VEVENT
END:VCALENDAR