BEGIN:VCALENDAR
VERSION:2.0
PRODID:-//eventon.com NONSGML v1.0//EN
CALSCALE:GREGORIAN
METHOD:PUBLISH
BEGIN:VEVENT
UID:69ebab764b7f1
DTSTAMP:20260424T174214Z
DTSTART:20260409T183000Z
DTEND:20260409T193000Z
LOCATION:Plumb Memorial Library 65 Wooster St\,  Shelton\,  CT 06484
SUMMARY:Constructive Play
DESCRIPTION:Imagine\,  design\,  and construct using provided library mater
 ials and construction vehicles during this hands-on building program. This 
 program is specifically geared toward older preschoolers to encourage play\
 ,  communication and making friends too. Caregivers will be participating t
 oo.\nhttps://sheltonlibrarysystem.org/events/20260409-constructive-play/
URL:https://sheltonlibrarysystem.org/events/20260409-constructive-play/
END:VEVENT
END:VCALENDAR