BEGIN:VCALENDAR
VERSION:2.0
PRODID:-//eventon.com NONSGML v1.0//EN
CALSCALE:GREGORIAN
METHOD:PUBLISH
BEGIN:VEVENT
UID:69eba4cf77922
DTSTAMP:20260424T171351Z
DTSTART:20260430T183000Z
DTEND:20260430T193000Z
LOCATION:Plumb Memorial Library 65 Wooster St\,  Shelton\,  CT 06484
SUMMARY:Constructive Play
DESCRIPTION:Imagine\,  design\,  and construct using provided library mater
 ials and construction vehicles during this hands-on building program. This 
 program is specifically geared toward older preschoolers to encourage play\
 ,  communication and making friends too. Caregivers will be participating t
 oo.\nhttps://sheltonlibrarysystem.org/events/20260430-constructive-play/
URL:https://sheltonlibrarysystem.org/events/20260430-constructive-play/
END:VEVENT
END:VCALENDAR