BEGIN:VCALENDAR
VERSION:2.0
PRODID:-//eventon.com NONSGML v1.0//EN
CALSCALE:GREGORIAN
METHOD:PUBLISH
BEGIN:VEVENT
UID:69eba47c477f5
DTSTAMP:20260424T171228Z
DTSTART:20260410T133000Z
DTEND:20260410T143000Z
LOCATION:Plumb Memorial Library 65 Wooster St\,  Shelton\,  CT 06484
SUMMARY:Wee Wonders
DESCRIPTION:Toddlers and their caregivers are welcome to join Miss Maura fo
 r an age-appropriate book and a library playdate &#8211; an opportunity to 
 make some new friends too.\nhttps://sheltonlibrarysystem.org/events/2026041
 0-wee-wonders/
URL:https://sheltonlibrarysystem.org/events/20260410-wee-wonders/
END:VEVENT
END:VCALENDAR