BEGIN:VCALENDAR
VERSION:2.0
PRODID:-//eventon.com NONSGML v1.0//EN
CALSCALE:GREGORIAN
METHOD:PUBLISH
BEGIN:VEVENT
UID:69ebaa1ad95c4
DTSTAMP:20260424T173626Z
DTSTART:20260424T140000Z
DTEND:20260424T150000Z
LOCATION:Plumb Memorial Library 65 Wooster St\,  Shelton\,  CT 06484
SUMMARY:Smalls and Smiles
DESCRIPTION:Our youngest library friends are welcome to join Miss Maura\,  
 first for an age appropriate book and then to have a library playdate. Libr
 ary toys and books will be provided during this program. Caregivers will be
  participating with their child.\nhttps://sheltonlibrarysystem.org/events/2
 0260424-smalls-and-smiles/
URL:https://sheltonlibrarysystem.org/events/20260424-smalls-and-smiles/
END:VEVENT
END:VCALENDAR