BEGIN:VCALENDAR
VERSION:2.0
PRODID:-//eventon.com NONSGML v1.0//EN
CALSCALE:GREGORIAN
METHOD:PUBLISH
BEGIN:VEVENT
UID:69eba415b8f49
DTSTAMP:20260424T171045Z
DTSTART:20260425T140000Z
DTEND:20260425T150000Z
LOCATION:Plumb Memorial Library 65 Wooster St\,  Shelton\,  CT 06484
SUMMARY:Stories & Scripts
DESCRIPTION:Places\,  everyone! Come join Plumb&#8217;s Ms. Amanda for stor
 ies and theatre improv games that will heighten your little one&#8217;s lov
 e for the stage.\nhttps://sheltonlibrarysystem.org/events/20260425-stories-
 scripts/
URL:https://sheltonlibrarysystem.org/events/20260425-stories-scripts/
END:VEVENT
END:VCALENDAR