BEGIN:VCALENDAR
VERSION:2.0
PRODID:-//eventon.com NONSGML v1.0//EN
CALSCALE:GREGORIAN
METHOD:PUBLISH
BEGIN:VEVENT
UID:69eba45e84830
DTSTAMP:20260424T171158Z
DTSTART:20260413T150000Z
DTEND:20260413T160000Z
LOCATION:Plumb Memorial Library 65 Wooster St\,  Shelton\,  CT 06484
SUMMARY:3D Paper Sculptures
DESCRIPTION:Color\,  shape\,  shadow texture\,  pattern! Create a unique pi
 ece of art from odds and ends of colorful hued paper with provided &#8220;s
 culpting&#8221; tools and techniques too. Make a mundane and flat piece of 
 paper jump off the base which will be worthy to be displayed in a fine mode
 rn art[..]\nhttps://sheltonlibrarysystem.org/events/20260413-3d-paper-sculp
 tures/
URL:https://sheltonlibrarysystem.org/events/20260413-3d-paper-sculptures/
END:VEVENT
END:VCALENDAR