BEGIN:VCALENDAR
VERSION:2.0
PRODID:-//eventon.com NONSGML v1.0//EN
CALSCALE:GREGORIAN
METHOD:PUBLISH
BEGIN:VEVENT
UID:69eba4d4dbb59
DTSTAMP:20260424T171356Z
DTSTART:20260414T173000Z
DTEND:20260414T183000Z
LOCATION:Plumb Memorial Library 65 Wooster St\,  Shelton\,  CT 06484
SUMMARY:Blackout Poetry
DESCRIPTION:What can be created from a single page of text? Creative kids a
 re encouraged to join us and celebrate National Poetry Month by learning ho
 w to make a one-of-kind poem through a previously printed copy of a book pa
 ge\,  some art supplies and your imagination.\nhttps://sheltonlibrarysystem
 .org/events/20260414-blackout-poetry/
URL:https://sheltonlibrarysystem.org/events/20260414-blackout-poetry/
END:VEVENT
END:VCALENDAR