BEGIN:VCALENDAR
VERSION:2.0
PRODID:-//eventon.com NONSGML v1.0//EN
CALSCALE:GREGORIAN
METHOD:PUBLISH
BEGIN:VEVENT
UID:69eba42b0f23d
DTSTAMP:20260424T171107Z
DTSTART:20260428T183000Z
DTEND:20260428T193000Z
LOCATION:Plumb Memorial Library 65 Wooster St\,  Shelton\,  CT 06484
SUMMARY:Unicorn Story Time & Craft
DESCRIPTION:Unicorn fans are welcome to join Miss Maura for unicorn stories
 \,  musical fun and a special colorful unicorn craft too! Caregivers will b
 e participating with their child in this program.\nhttps://sheltonlibrarysy
 stem.org/events/20260428-unicorn-story-time-and-craft/
URL:https://sheltonlibrarysystem.org/events/20260428-unicorn-story-time-and-craft/
END:VEVENT
END:VCALENDAR