BEGIN:VCALENDAR
VERSION:2.0
PRODID:-//eventon.com NONSGML v1.0//EN
CALSCALE:GREGORIAN
METHOD:PUBLISH
BEGIN:VEVENT
UID:69eba41ba7535
DTSTAMP:20260424T171051Z
DTSTART:20260415T183000Z
DTEND:20260415T193000Z
LOCATION:Plumb Memorial Library 65 Wooster St\,  Shelton\,  CT 06484
SUMMARY:It’s Wednesday! Let’s Weave.
DESCRIPTION:Paper plate\,  yarn\,  over\,  under\,  color\,  pattern…it&#
 8217;s Wednesday\,  let&#8217;s weave! Supplies and directions provided.\nh
 ttps://sheltonlibrarysystem.org/events/20260415-its-wednesday-lets-weave/
URL:https://sheltonlibrarysystem.org/events/20260415-its-wednesday-lets-weave/
END:VEVENT
END:VCALENDAR