BEGIN:VCALENDAR
VERSION:2.0
PRODID:-//eventon.com NONSGML v1.0//EN
CALSCALE:GREGORIAN
METHOD:PUBLISH
BEGIN:VEVENT
UID:69eba4829716d
DTSTAMP:20260424T171234Z
DTSTART:20260422T183000Z
DTEND:20260422T193000Z
LOCATION:Plumb Memorial Library 65 Wooster St\,  Shelton\,  CT 06484
SUMMARY:Planet Protectors
DESCRIPTION:Inquisitive preschoolers are welcome to join Miss Maura to cele
 brate Earth Day through stories\,  musical fun and a special &#8220;earth f
 riendly activity&#8221;. Caregivers will be participating with their child 
 in this program.\nhttps://sheltonlibrarysystem.org/events/20260422-planet-p
 rotectors/
URL:https://sheltonlibrarysystem.org/events/20260422-planet-protectors/
END:VEVENT
END:VCALENDAR