BEGIN:VCALENDAR
VERSION:2.0
PRODID:-//eventon.com NONSGML v1.0//EN
CALSCALE:GREGORIAN
METHOD:PUBLISH
BEGIN:VEVENT
UID:69eba4d4dbb40
DTSTAMP:20260424T171356Z
DTSTART:20260411T140000Z
DTEND:20260411T150000Z
LOCATION:Plumb Memorial Library 65 Wooster St\,  Shelton\,  CT 06484
SUMMARY:NHSO & The Beardsley Zoo Family Concert
DESCRIPTION:Happy to share our friends at the New Haven Symphony Orchestra 
 and Connecticut&#8217;s Beardsley Zoo are teaming up to provide a FREE inte
 ractive and family friendly concert at Plumb. This harmonious duo will feat
 ure beautiful music and amazing animals too. Caregivers must remain with th
 eir children for program&#8217;s duration.\nhttps://sheltonlibrarysystem.or
 g/events/20260411-nhso-the-beardsley-zoo-family-concert/
URL:https://sheltonlibrarysystem.org/events/20260411-nhso-the-beardsley-zoo-family-concert/
END:VEVENT
END:VCALENDAR