BEGIN:VCALENDAR
VERSION:2.0
PRODID:-//eventon.com NONSGML v1.0//EN
CALSCALE:GREGORIAN
METHOD:PUBLISH
BEGIN:VEVENT
UID:69eba5232937b
DTSTAMP:20260424T171515Z
DTSTART:20260415T214500Z
DTEND:20260415T224500Z
LOCATION:Plumb Memorial Library 65 Wooster St\,  Shelton\,  CT 06484
SUMMARY:Yoga and Wellness
DESCRIPTION:Community Meditation These sessions will be community meditatio
 n circles. We will have a group discussion on a topic and meditate on it\, 
  as well as practice a breathwork technique to become grounded. Yoga mats a
 re not required\,  as the library has a set\,  but bring your own mat if yo
 u[..]\nhttps://sheltonlibrarysystem.org/events/20260415-yoga-and-wellness/
URL:https://sheltonlibrarysystem.org/events/20260415-yoga-and-wellness/
END:VEVENT
END:VCALENDAR