BEGIN:VCALENDAR
VERSION:2.0
PRODID:-//eventon.com NONSGML v1.0//EN
CALSCALE:GREGORIAN
METHOD:PUBLISH
BEGIN:VEVENT
UID:69eba51e2447f
DTSTAMP:20260424T171510Z
DTSTART:20260425T133000Z
DTEND:20260425T180000Z
LOCATION:Plumb Memorial Library 65 Wooster St\,  Shelton\,  CT 06484
SUMMARY:Friends of the Shelton Libraries Book Sale
DESCRIPTION:Join us for a book sale organized by the Friends of the Shelton
  Libraries in the Plumb Memorial Library Reading Room. Attendees can expect
  to find a wide selection of authors and genres\,  including mysteries\,  h
 istory\,  fantasy\,  and arts and crafts. Hardcovers: $2 Softcovers: $1 Pap
 erbacks: 5 for $1 Cash[..]\nhttps://sheltonlibrarysystem.org/events/2026042
 5-fotsl-book-sale/
URL:https://sheltonlibrarysystem.org/events/20260425-fotsl-book-sale/
END:VEVENT
END:VCALENDAR