BEGIN:VCALENDAR
VERSION:2.0
PRODID:-//eventon.com NONSGML v1.0//EN
CALSCALE:GREGORIAN
METHOD:PUBLISH
BEGIN:VEVENT
UID:69eba51dbc984
DTSTAMP:20260424T171509Z
DTSTART:20260502T160000Z
DTEND:20260503T035900Z
LOCATION:Plumb Memorial Library 65 Wooster St\,  Shelton\,  CT 06484
SUMMARY:Teen Chefs
DESCRIPTION:¡Taco Dia! Celebrate Cinco de Mayo early with our taco day! Ou
 r Teen Chefs will create their own tacos by frying their own ground beef\, 
  seasoning the meat\,  and then building their own tacos. Choice of soft wr
 aps or hard shells. Choice of toppings include lettuce\,  pico de gallo\,  
 shredded[..]\nhttps://sheltonlibrarysystem.org/events/20260502-teen-chefs-t
 aco-dia/
URL:https://sheltonlibrarysystem.org/events/20260502-teen-chefs-taco-dia/
END:VEVENT
END:VCALENDAR