BEGIN:VCALENDAR
VERSION:2.0
PRODID:-//eventon.com NONSGML v1.0//EN
CALSCALE:GREGORIAN
METHOD:PUBLISH
BEGIN:VEVENT
UID:69eba3f1d8bae
DTSTAMP:20260424T171009Z
DTSTART:20260504T131500Z
DTEND:20260504T134500Z
LOCATION:Plumb Memorial Library 65 Wooster St\,  Shelton\,  CT 06484
SUMMARY:Itsy Bitsy Readers
DESCRIPTION:Our youngest readers and their caregivers too are welcome to jo
 in Plumb’s Miss Maura for reading\,  rhymes\,  and rhythms too! Specially
  geared toward our youngest library friends. Caregivers will participate al
 ongside their child during this program.\nhttps://sheltonlibrarysystem.org/
 events/20260504-itsy-bitsy-readers/
URL:https://sheltonlibrarysystem.org/events/20260504-itsy-bitsy-readers/
END:VEVENT
END:VCALENDAR