BEGIN:VCALENDAR
VERSION:2.0
PRODID:-//eventon.com NONSGML v1.0//EN
CALSCALE:GREGORIAN
METHOD:PUBLISH
BEGIN:VEVENT
UID:69eba47225e7c
DTSTAMP:20260424T171218Z
DTSTART:20260511T141500Z
DTEND:20260511T144500Z
LOCATION:Plumb Memorial Library 65 Wooster St\,  Shelton\,  CT 06484
SUMMARY:Ready\,  Set… Read!
DESCRIPTION:Join us at a unique library story time specifically geared towa
 rd preschoolers! We will focus on stories\,  songs and early literacy skill
 s too! Caregivers must remain with their child for program duration.\nhttps
 ://sheltonlibrarysystem.org/events/20260511-ready-set-read/
URL:https://sheltonlibrarysystem.org/events/20260511-ready-set-read/
END:VEVENT
END:VCALENDAR