BEGIN:VCALENDAR
VERSION:2.0
PRODID:-//eventon.com NONSGML v1.0//EN
CALSCALE:GREGORIAN
METHOD:PUBLISH
BEGIN:VEVENT
UID:69ea396d00902
DTSTAMP:20260423T152325Z
DTSTART:20260504T213000Z
DTEND:20260504T223000Z
LOCATION:Huntington Branch Library 41 Church St\,  Shelton\,  CT 06484
SUMMARY:World of Tea
DESCRIPTION:with Frank Kwei Adult patrons can join us at the Huntington Bra
 nch for lecture series designed to introduce people to the wonderful world 
 of tea presented by Frank Kwei. A variety of tea samples will also be provi
 ded.\nhttps://sheltonlibrarysystem.org/events/20260504-world-of-tea/
URL:https://sheltonlibrarysystem.org/events/20260504-world-of-tea/
END:VEVENT
END:VCALENDAR