BEGIN:VCALENDAR
VERSION:2.0
PRODID:-//eventon.com NONSGML v1.0//EN
CALSCALE:GREGORIAN
METHOD:PUBLISH
BEGIN:VEVENT
UID:69eba51db9afe
DTSTAMP:20260424T171509Z
DTSTART:20260521T133000Z
DTEND:20260521T143000Z
LOCATION:Plumb Memorial Library 65 Wooster St\,  Shelton\,  CT 06484
SUMMARY:Adult Tai Chi Program
DESCRIPTION:The Plumb Memorial Library is offering Tai Chi workshops for ad
 ults. They will be held on Thursday mornings at 9:30am in the Library&#8217
 ;s Meeting Room. Join new instructor David Bailey every Thursday to loosen 
 your bones and clear your mind. The program is free and open to the public.
 \nhttps://sheltonlibrarysystem.org/events/202605-adult-tai-chi-program/var/
 ri-2.l-L1
URL:https://sheltonlibrarysystem.org/events/202605-adult-tai-chi-program/var/ri-2.l-L1
END:VEVENT
END:VCALENDAR