BEGIN:VCALENDAR
VERSION:2.0
PRODID:-//eventon.com NONSGML v1.0//EN
CALSCALE:GREGORIAN
METHOD:PUBLISH
BEGIN:VEVENT
UID:69eba4da67346
DTSTAMP:20260424T171402Z
DTSTART:20260512T140000Z
DTEND:20260512T143000Z
LOCATION:Plumb Memorial Library 65 Wooster St\,  Shelton\,  CT 06484
SUMMARY:Little Lotus Yoga
DESCRIPTION:Join Yoga Instructor\,  Miss Krista from Krista&#8217;s Kids Yo
 ga for this yoga-themed library story-time. Young yogis and their caregiver
 s will learn different yoga poses\,  enjoy a story plus music\,  and fun yo
 ga props too! NO prior yoga experience needed. Caregivers will be participa
 ting in the yoga too. Please bring a[..]\nhttps://sheltonlibrarysystem.org/
 events/20260512-little-lotus-yoga/
URL:https://sheltonlibrarysystem.org/events/20260512-little-lotus-yoga/
END:VEVENT
END:VCALENDAR