BEGIN:VCALENDAR
VERSION:2.0
PRODID:-//eventon.com NONSGML v1.0//EN
CALSCALE:GREGORIAN
METHOD:PUBLISH
BEGIN:VEVENT
UID:69eba523a075c
DTSTAMP:20260424T171515Z
DTSTART:20260508T133000Z
DTEND:20260508T143000Z
LOCATION:Plumb Memorial Library 65 Wooster St\,  Shelton\,  CT 06484
SUMMARY:Wee Wonders
DESCRIPTION:Toddlers and their caregivers are welcome to join Miss Maura fo
 r an age-appropriate book and a library playdate &#8211; an opportunity to 
 meet some new friends! Caregivers must remain with their child for program 
 duration.\nhttps://sheltonlibrarysystem.org/events/20260508-wee-wonders/
URL:https://sheltonlibrarysystem.org/events/20260508-wee-wonders/
END:VEVENT
END:VCALENDAR