BEGIN:VCALENDAR
VERSION:2.0
PRODID:-//eventon.com NONSGML v1.0//EN
CALSCALE:GREGORIAN
METHOD:PUBLISH
BEGIN:VEVENT
UID:69eba50ee3a61
DTSTAMP:20260424T171454Z
DTSTART:20260522T140000Z
DTEND:20260522T150000Z
LOCATION:Plumb Memorial Library 65 Wooster St\,  Shelton\,  CT 06484
SUMMARY:Smalls and Smiles
DESCRIPTION:Our youngest library friends are welcome to join Miss Maura for
  an age-appropriate book and a library playdate. Toys and books will be pro
 vided by the library.\nhttps://sheltonlibrarysystem.org/events/20260522-sma
 lls-and-smiles/
URL:https://sheltonlibrarysystem.org/events/20260522-smalls-and-smiles/
END:VEVENT
END:VCALENDAR