BEGIN:VCALENDAR
VERSION:2.0
PRODID:-//eventon.com NONSGML v1.0//EN
CALSCALE:GREGORIAN
METHOD:PUBLISH
BEGIN:VEVENT
UID:69eba3f25b3d3
DTSTAMP:20260424T171010Z
DTSTART:20260516T140000Z
DTEND:20260516T150000Z
LOCATION:Plumb Memorial Library 65 Wooster St\,  Shelton\,  CT 06484
SUMMARY:Stitch Wizards
DESCRIPTION:Join Fiber Art Guru\,  Ms. Becky and Miss Maura as we teach old
 er kids how to crochet. NO prior crocheting experience required. The librar
 y will provide directions\,  yarn\,  pattern and crochet hooks and plenty o
 f hands-on help so each child will succeed. Caregivers must participate wit
 h their child.\nhttps://sheltonlibrarysystem.org/events/20260516-stitch-wiz
 ards/
URL:https://sheltonlibrarysystem.org/events/20260516-stitch-wizards/
END:VEVENT
END:VCALENDAR