BEGIN:VCALENDAR
VERSION:2.0
PRODID:-//eventon.com NONSGML v1.0//EN
CALSCALE:GREGORIAN
METHOD:PUBLISH
BEGIN:VEVENT
UID:69eba5707f136
DTSTAMP:20260424T171632Z
DTSTART:20260509T151500Z
DTEND:20260509T161500Z
LOCATION:Plumb Memorial Library 65 Wooster St\,  Shelton\,  CT 06484
SUMMARY:Childrenâ€™s Flag Program
DESCRIPTION:Old Glory\,  The Stars and Stripes\,  The Star-Spangled Bannerâ
 €¦ where did these names for the American flag come from? Interested childr
 en and their caregivers are welcome to learn about the American Flag histor
 y and some interesting flag facts with our special guest presenters: The Da
 ughters of the American Revolution Ripton[..]\nhttps://sheltonlibrarysystem
 .org/events/20260509-childrens-flag-program/
URL:https://sheltonlibrarysystem.org/events/20260509-childrens-flag-program/
END:VEVENT
END:VCALENDAR