BEGIN:VCALENDAR
VERSION:2.0
PRODID:-//eventon.com NONSGML v1.0//EN
CALSCALE:GREGORIAN
METHOD:PUBLISH
BEGIN:VEVENT
UID:69eba4dad3550
DTSTAMP:20260424T171402Z
DTSTART:20260528T213000Z
DTEND:20260528T223000Z
LOCATION:Plumb Memorial Library 65 Wooster St\,  Shelton\,  CT 06484
SUMMARY:Tissue Paper Flowers
DESCRIPTION:Join Miss Maura as she teaches you how to make beautiful spring
  flowers using colorful tissue paper\,  pipe cleaners and some elbow grease
  too! Caregivers will be assisting their child during this crafting program
 .\nhttps://sheltonlibrarysystem.org/events/060528-tissue-paper-flowers/
URL:https://sheltonlibrarysystem.org/events/060528-tissue-paper-flowers/
END:VEVENT
END:VCALENDAR