BEGIN:VCALENDAR
VERSION:2.0
PRODID:-//eventon.com NONSGML v1.0//EN
CALSCALE:GREGORIAN
METHOD:PUBLISH
BEGIN:VEVENT
UID:69eba3f15a180
DTSTAMP:20260424T171009Z
DTSTART:20260520T140000Z
DTEND:20260520T150000Z
LOCATION:Plumb Memorial Library 65 Wooster St\,  Shelton\,  CT 06484
SUMMARY:BUZZworthy Story Time & Craft
DESCRIPTION:Join Miss Maura to learn about bumble bees through books and a 
 special BUZZworthy craft plus enjoy some musical fun too! Caregivers will b
 e participating with their child.\nhttps://sheltonlibrarysystem.org/events/
 20260520-buzzworthy-story-time-and-craft/
URL:https://sheltonlibrarysystem.org/events/20260520-buzzworthy-story-time-and-craft/
END:VEVENT
END:VCALENDAR