BEGIN:VCALENDAR
VERSION:2.0
PRODID:-//eventon.com NONSGML v1.0//EN
CALSCALE:GREGORIAN
METHOD:PUBLISH
BEGIN:VEVENT
UID:69eba472289f1
DTSTAMP:20260424T171218Z
DTSTART:20260506T214500Z
DTEND:20260506T224500Z
LOCATION:Plumb Memorial Library 65 Wooster St\,  Shelton\,  CT 06484
SUMMARY:Yoga and Wellness
DESCRIPTION:Yin and Sound Yin Yoga is a form of yoga that combines ancient 
 Asian and Indian philosophy. In this class\,  grounded poses will be held f
 or 3-5 minutes paired with deep breathing\,  allowing the fascia tissue of 
 the joints to get a nice stretch. An extended savasana will be enjoyed[..]\
 nhttps://sheltonlibrarysystem.org/events/20260506-yoga-and-wellness/
URL:https://sheltonlibrarysystem.org/events/20260506-yoga-and-wellness/
END:VEVENT
END:VCALENDAR