BEGIN:VCALENDAR
VERSION:2.0
PRODID:-//eventon.com NONSGML v1.0//EN
CALSCALE:GREGORIAN
METHOD:PUBLISH
BEGIN:VEVENT
UID:69eba4c426549
DTSTAMP:20260424T171340Z
DTSTART:20260707T180000Z
DTEND:20260708T035900Z
LOCATION:Plumb Memorial Library 65 Wooster St\,  Shelton\,  CT 06484
SUMMARY:The Art of Rock Painting
DESCRIPTION:with Denise Smith Join nature artist Denise Smith for a mindful
  and creative workshop\,  The Art of Rock Painting. This craft experience i
 s for all skill levels\,  all supplies are provided as well as instruction 
 and inspiration.\nhttps://sheltonlibrarysystem.org/events/20260707-the-art-
 of-rock-painting/
URL:https://sheltonlibrarysystem.org/events/20260707-the-art-of-rock-painting/
END:VEVENT
END:VCALENDAR