BEGIN:VCALENDAR
VERSION:2.0
PRODID:-//eventon.com NONSGML v1.0//EN
CALSCALE:GREGORIAN
METHOD:PUBLISH
BEGIN:VEVENT
UID:69eba482e2fa7
DTSTAMP:20260424T171234Z
DTSTART:20260710T170000Z
DTEND:20260711T035900Z
LOCATION:Plumb Memorial Library 65 Wooster St\,  Shelton\,  CT 06484
SUMMARY:Friday Films
DESCRIPTION:Plumb Memorial Library is offering a bimonthly &#8220;Friday Fi
 lms&#8221; series on Fridays at 1:00pm. The films will be viewed in the dow
 nstairs Meeting Room. This week&#8217;s film is Killers of the Flower Moon 
 No registration is required and light refreshments will be served.\nhttps:/
 /sheltonlibrarysystem.org/events/20260710-friday-films/
URL:https://sheltonlibrarysystem.org/events/20260710-friday-films/
END:VEVENT
END:VCALENDAR